BEGIN:VCALENDAR
VERSION:2.0
PRODID:-//Dirt Force Bike Park Neubrandenburg - ECPv6.2.8.1//NONSGML v1.0//EN
CALSCALE:GREGORIAN
METHOD:PUBLISH
X-WR-CALNAME:Dirt Force Bike Park Neubrandenburg
X-ORIGINAL-URL:https://dirtforce.de
X-WR-CALDESC:Veranstaltungen für Dirt Force Bike Park Neubrandenburg
REFRESH-INTERVAL;VALUE=DURATION:PT1H
X-Robots-Tag:noindex
X-PUBLISHED-TTL:PT1H
BEGIN:VTIMEZONE
TZID:Europe/Berlin
BEGIN:DAYLIGHT
TZOFFSETFROM:+0100
TZOFFSETTO:+0200
TZNAME:CEST
DTSTART:20260329T010000
END:DAYLIGHT
BEGIN:STANDARD
TZOFFSETFROM:+0200
TZOFFSETTO:+0100
TZNAME:CET
DTSTART:20261025T010000
END:STANDARD
END:VTIMEZONE
BEGIN:VEVENT
DTSTART;TZID=Europe/Berlin:20260325T160000
DTEND;TZID=Europe/Berlin:20260325T180000
DTSTAMP:20260425T220915
CREATED:20230704T103507Z
LAST-MODIFIED:20231124T211803Z
UID:10004637-1774454400-1774461600@dirtforce.de
SUMMARY:KidsTraining EXPERT (10 - 15 J.)
DESCRIPTION:
URL:https://dirtforce.de/event/kidstraining-expert-2020-10-21-2/2026-03-25/
LOCATION:Dirt Force Bikepark\, Mühlendamm 1\, Neubrandenburg\, Mecklenburg-Vorpommern\, 17033\, Deutschland
CATEGORIES:Tickets,Training
ATTACH;FMTTYPE=image/png:https://dirtforce.de/wp-content/uploads/2023/11/KidsTraining_XP-e1700856127693.png
GEO:53.5359552;13.2979632
X-APPLE-STRUCTURED-LOCATION;VALUE=URI;X-ADDRESS=Dirt Force Bikepark Mühlendamm 1 Neubrandenburg Mecklenburg-Vorpommern 17033 Deutschland;X-APPLE-RADIUS=500;X-TITLE=Mühlendamm 1:geo:13.2979632,53.5359552
END:VEVENT
BEGIN:VEVENT
DTSTART;TZID=Europe/Berlin:20260327T150000
DTEND;TZID=Europe/Berlin:20260327T163000
DTSTAMP:20260425T220915
CREATED:20231123T223412Z
LAST-MODIFIED:20231124T213311Z
UID:10010379-1774623600-1774629000@dirtforce.de
SUMMARY:KidsTraining Junior Gruppe I (4-7J.)
DESCRIPTION:
URL:https://dirtforce.de/event/kidstraining-junior-gruppe-i-4-7j/
LOCATION:Dirt Force Bikepark\, Mühlendamm 1\, Neubrandenburg\, Mecklenburg-Vorpommern\, 17033\, Deutschland
CATEGORIES:Tickets,Training
ATTACH;FMTTYPE=image/png:https://dirtforce.de/wp-content/uploads/2023/11/KidsTraining_JR_GR1-e1700860986819.png
GEO:53.5359552;13.2979632
X-APPLE-STRUCTURED-LOCATION;VALUE=URI;X-ADDRESS=Dirt Force Bikepark Mühlendamm 1 Neubrandenburg Mecklenburg-Vorpommern 17033 Deutschland;X-APPLE-RADIUS=500;X-TITLE=Mühlendamm 1:geo:13.2979632,53.5359552
END:VEVENT
BEGIN:VEVENT
DTSTART;TZID=Europe/Berlin:20260327T163000
DTEND;TZID=Europe/Berlin:20260327T180000
DTSTAMP:20260425T220915
CREATED:20231122T221159Z
LAST-MODIFIED:20231124T212011Z
UID:10000724-1774629000-1774634400@dirtforce.de
SUMMARY:KidsTraining Junior Gruppe II (7-10J.)
DESCRIPTION:
URL:https://dirtforce.de/event/kidstraining-junior-gruppe-ii/2026-03-27/
LOCATION:Dirt Force Bikepark\, Mühlendamm 1\, Neubrandenburg\, Mecklenburg-Vorpommern\, 17033\, Deutschland
CATEGORIES:Tickets,Training
ATTACH;FMTTYPE=image/png:https://dirtforce.de/wp-content/uploads/2023/11/KIdsTraining_JR_GR2-e1700856091632.png
GEO:53.5359552;13.2979632
X-APPLE-STRUCTURED-LOCATION;VALUE=URI;X-ADDRESS=Dirt Force Bikepark Mühlendamm 1 Neubrandenburg Mecklenburg-Vorpommern 17033 Deutschland;X-APPLE-RADIUS=500;X-TITLE=Mühlendamm 1:geo:13.2979632,53.5359552
END:VEVENT
BEGIN:VEVENT
DTSTART;TZID=Europe/Berlin:20260401T160000
DTEND;TZID=Europe/Berlin:20260401T180000
DTSTAMP:20260425T220915
CREATED:20230704T103507Z
LAST-MODIFIED:20231124T211803Z
UID:10004638-1775059200-1775066400@dirtforce.de
SUMMARY:KidsTraining EXPERT (10 - 15 J.)
DESCRIPTION:
URL:https://dirtforce.de/event/kidstraining-expert-2020-10-21-2/2026-04-01/
LOCATION:Dirt Force Bikepark\, Mühlendamm 1\, Neubrandenburg\, Mecklenburg-Vorpommern\, 17033\, Deutschland
CATEGORIES:Tickets,Training
ATTACH;FMTTYPE=image/png:https://dirtforce.de/wp-content/uploads/2023/11/KidsTraining_XP-e1700856127693.png
GEO:53.5359552;13.2979632
X-APPLE-STRUCTURED-LOCATION;VALUE=URI;X-ADDRESS=Dirt Force Bikepark Mühlendamm 1 Neubrandenburg Mecklenburg-Vorpommern 17033 Deutschland;X-APPLE-RADIUS=500;X-TITLE=Mühlendamm 1:geo:13.2979632,53.5359552
END:VEVENT
BEGIN:VEVENT
DTSTART;TZID=Europe/Berlin:20260403T150000
DTEND;TZID=Europe/Berlin:20260403T163000
DTSTAMP:20260425T220915
CREATED:20231123T223412Z
LAST-MODIFIED:20231124T213311Z
UID:10010380-1775228400-1775233800@dirtforce.de
SUMMARY:KidsTraining Junior Gruppe I (4-7J.)
DESCRIPTION:
URL:https://dirtforce.de/event/kidstraining-junior-gruppe-i-4-7j/
LOCATION:Dirt Force Bikepark\, Mühlendamm 1\, Neubrandenburg\, Mecklenburg-Vorpommern\, 17033\, Deutschland
CATEGORIES:Tickets,Training
ATTACH;FMTTYPE=image/png:https://dirtforce.de/wp-content/uploads/2023/11/KidsTraining_JR_GR1-e1700860986819.png
GEO:53.5359552;13.2979632
X-APPLE-STRUCTURED-LOCATION;VALUE=URI;X-ADDRESS=Dirt Force Bikepark Mühlendamm 1 Neubrandenburg Mecklenburg-Vorpommern 17033 Deutschland;X-APPLE-RADIUS=500;X-TITLE=Mühlendamm 1:geo:13.2979632,53.5359552
END:VEVENT
BEGIN:VEVENT
DTSTART;TZID=Europe/Berlin:20260403T163000
DTEND;TZID=Europe/Berlin:20260403T180000
DTSTAMP:20260425T220915
CREATED:20231122T221159Z
LAST-MODIFIED:20231124T212011Z
UID:10000725-1775233800-1775239200@dirtforce.de
SUMMARY:KidsTraining Junior Gruppe II (7-10J.)
DESCRIPTION:
URL:https://dirtforce.de/event/kidstraining-junior-gruppe-ii/2026-04-03/
LOCATION:Dirt Force Bikepark\, Mühlendamm 1\, Neubrandenburg\, Mecklenburg-Vorpommern\, 17033\, Deutschland
CATEGORIES:Tickets,Training
ATTACH;FMTTYPE=image/png:https://dirtforce.de/wp-content/uploads/2023/11/KIdsTraining_JR_GR2-e1700856091632.png
GEO:53.5359552;13.2979632
X-APPLE-STRUCTURED-LOCATION;VALUE=URI;X-ADDRESS=Dirt Force Bikepark Mühlendamm 1 Neubrandenburg Mecklenburg-Vorpommern 17033 Deutschland;X-APPLE-RADIUS=500;X-TITLE=Mühlendamm 1:geo:13.2979632,53.5359552
END:VEVENT
BEGIN:VEVENT
DTSTART;TZID=Europe/Berlin:20260408T160000
DTEND;TZID=Europe/Berlin:20260408T180000
DTSTAMP:20260425T220915
CREATED:20230704T103507Z
LAST-MODIFIED:20231124T211803Z
UID:10004639-1775664000-1775671200@dirtforce.de
SUMMARY:KidsTraining EXPERT (10 - 15 J.)
DESCRIPTION:
URL:https://dirtforce.de/event/kidstraining-expert-2020-10-21-2/2026-04-08/
LOCATION:Dirt Force Bikepark\, Mühlendamm 1\, Neubrandenburg\, Mecklenburg-Vorpommern\, 17033\, Deutschland
CATEGORIES:Tickets,Training
ATTACH;FMTTYPE=image/png:https://dirtforce.de/wp-content/uploads/2023/11/KidsTraining_XP-e1700856127693.png
GEO:53.5359552;13.2979632
X-APPLE-STRUCTURED-LOCATION;VALUE=URI;X-ADDRESS=Dirt Force Bikepark Mühlendamm 1 Neubrandenburg Mecklenburg-Vorpommern 17033 Deutschland;X-APPLE-RADIUS=500;X-TITLE=Mühlendamm 1:geo:13.2979632,53.5359552
END:VEVENT
BEGIN:VEVENT
DTSTART;TZID=Europe/Berlin:20260410T150000
DTEND;TZID=Europe/Berlin:20260410T163000
DTSTAMP:20260425T220915
CREATED:20231123T223412Z
LAST-MODIFIED:20231124T213311Z
UID:10010381-1775833200-1775838600@dirtforce.de
SUMMARY:KidsTraining Junior Gruppe I (4-7J.)
DESCRIPTION:
URL:https://dirtforce.de/event/kidstraining-junior-gruppe-i-4-7j/
LOCATION:Dirt Force Bikepark\, Mühlendamm 1\, Neubrandenburg\, Mecklenburg-Vorpommern\, 17033\, Deutschland
CATEGORIES:Tickets,Training
ATTACH;FMTTYPE=image/png:https://dirtforce.de/wp-content/uploads/2023/11/KidsTraining_JR_GR1-e1700860986819.png
GEO:53.5359552;13.2979632
X-APPLE-STRUCTURED-LOCATION;VALUE=URI;X-ADDRESS=Dirt Force Bikepark Mühlendamm 1 Neubrandenburg Mecklenburg-Vorpommern 17033 Deutschland;X-APPLE-RADIUS=500;X-TITLE=Mühlendamm 1:geo:13.2979632,53.5359552
END:VEVENT
BEGIN:VEVENT
DTSTART;TZID=Europe/Berlin:20260410T163000
DTEND;TZID=Europe/Berlin:20260410T180000
DTSTAMP:20260425T220915
CREATED:20231122T221159Z
LAST-MODIFIED:20231124T212011Z
UID:10000726-1775838600-1775844000@dirtforce.de
SUMMARY:KidsTraining Junior Gruppe II (7-10J.)
DESCRIPTION:
URL:https://dirtforce.de/event/kidstraining-junior-gruppe-ii/2026-04-10/
LOCATION:Dirt Force Bikepark\, Mühlendamm 1\, Neubrandenburg\, Mecklenburg-Vorpommern\, 17033\, Deutschland
CATEGORIES:Tickets,Training
ATTACH;FMTTYPE=image/png:https://dirtforce.de/wp-content/uploads/2023/11/KIdsTraining_JR_GR2-e1700856091632.png
GEO:53.5359552;13.2979632
X-APPLE-STRUCTURED-LOCATION;VALUE=URI;X-ADDRESS=Dirt Force Bikepark Mühlendamm 1 Neubrandenburg Mecklenburg-Vorpommern 17033 Deutschland;X-APPLE-RADIUS=500;X-TITLE=Mühlendamm 1:geo:13.2979632,53.5359552
END:VEVENT
BEGIN:VEVENT
DTSTART;TZID=Europe/Berlin:20260415T160000
DTEND;TZID=Europe/Berlin:20260415T180000
DTSTAMP:20260425T220915
CREATED:20230704T103507Z
LAST-MODIFIED:20231124T211803Z
UID:10004640-1776268800-1776276000@dirtforce.de
SUMMARY:KidsTraining EXPERT (10 - 15 J.)
DESCRIPTION:
URL:https://dirtforce.de/event/kidstraining-expert-2020-10-21-2/2026-04-15/
LOCATION:Dirt Force Bikepark\, Mühlendamm 1\, Neubrandenburg\, Mecklenburg-Vorpommern\, 17033\, Deutschland
CATEGORIES:Tickets,Training
ATTACH;FMTTYPE=image/png:https://dirtforce.de/wp-content/uploads/2023/11/KidsTraining_XP-e1700856127693.png
GEO:53.5359552;13.2979632
X-APPLE-STRUCTURED-LOCATION;VALUE=URI;X-ADDRESS=Dirt Force Bikepark Mühlendamm 1 Neubrandenburg Mecklenburg-Vorpommern 17033 Deutschland;X-APPLE-RADIUS=500;X-TITLE=Mühlendamm 1:geo:13.2979632,53.5359552
END:VEVENT
BEGIN:VEVENT
DTSTART;TZID=Europe/Berlin:20260417T150000
DTEND;TZID=Europe/Berlin:20260417T163000
DTSTAMP:20260425T220915
CREATED:20231123T223412Z
LAST-MODIFIED:20231124T213311Z
UID:10010382-1776438000-1776443400@dirtforce.de
SUMMARY:KidsTraining Junior Gruppe I (4-7J.)
DESCRIPTION:
URL:https://dirtforce.de/event/kidstraining-junior-gruppe-i-4-7j/
LOCATION:Dirt Force Bikepark\, Mühlendamm 1\, Neubrandenburg\, Mecklenburg-Vorpommern\, 17033\, Deutschland
CATEGORIES:Tickets,Training
ATTACH;FMTTYPE=image/png:https://dirtforce.de/wp-content/uploads/2023/11/KidsTraining_JR_GR1-e1700860986819.png
GEO:53.5359552;13.2979632
X-APPLE-STRUCTURED-LOCATION;VALUE=URI;X-ADDRESS=Dirt Force Bikepark Mühlendamm 1 Neubrandenburg Mecklenburg-Vorpommern 17033 Deutschland;X-APPLE-RADIUS=500;X-TITLE=Mühlendamm 1:geo:13.2979632,53.5359552
END:VEVENT
BEGIN:VEVENT
DTSTART;TZID=Europe/Berlin:20260417T163000
DTEND;TZID=Europe/Berlin:20260417T180000
DTSTAMP:20260425T220915
CREATED:20231122T221159Z
LAST-MODIFIED:20231124T212011Z
UID:10000727-1776443400-1776448800@dirtforce.de
SUMMARY:KidsTraining Junior Gruppe II (7-10J.)
DESCRIPTION:
URL:https://dirtforce.de/event/kidstraining-junior-gruppe-ii/2026-04-17/
LOCATION:Dirt Force Bikepark\, Mühlendamm 1\, Neubrandenburg\, Mecklenburg-Vorpommern\, 17033\, Deutschland
CATEGORIES:Tickets,Training
ATTACH;FMTTYPE=image/png:https://dirtforce.de/wp-content/uploads/2023/11/KIdsTraining_JR_GR2-e1700856091632.png
GEO:53.5359552;13.2979632
X-APPLE-STRUCTURED-LOCATION;VALUE=URI;X-ADDRESS=Dirt Force Bikepark Mühlendamm 1 Neubrandenburg Mecklenburg-Vorpommern 17033 Deutschland;X-APPLE-RADIUS=500;X-TITLE=Mühlendamm 1:geo:13.2979632,53.5359552
END:VEVENT
BEGIN:VEVENT
DTSTART;TZID=Europe/Berlin:20260422T160000
DTEND;TZID=Europe/Berlin:20260422T180000
DTSTAMP:20260425T220915
CREATED:20230704T103507Z
LAST-MODIFIED:20231124T211803Z
UID:10004641-1776873600-1776880800@dirtforce.de
SUMMARY:KidsTraining EXPERT (10 - 15 J.)
DESCRIPTION:
URL:https://dirtforce.de/event/kidstraining-expert-2020-10-21-2/2026-04-22/
LOCATION:Dirt Force Bikepark\, Mühlendamm 1\, Neubrandenburg\, Mecklenburg-Vorpommern\, 17033\, Deutschland
CATEGORIES:Tickets,Training
ATTACH;FMTTYPE=image/png:https://dirtforce.de/wp-content/uploads/2023/11/KidsTraining_XP-e1700856127693.png
GEO:53.5359552;13.2979632
X-APPLE-STRUCTURED-LOCATION;VALUE=URI;X-ADDRESS=Dirt Force Bikepark Mühlendamm 1 Neubrandenburg Mecklenburg-Vorpommern 17033 Deutschland;X-APPLE-RADIUS=500;X-TITLE=Mühlendamm 1:geo:13.2979632,53.5359552
END:VEVENT
BEGIN:VEVENT
DTSTART;TZID=Europe/Berlin:20260424T150000
DTEND;TZID=Europe/Berlin:20260424T163000
DTSTAMP:20260425T220915
CREATED:20231123T223412Z
LAST-MODIFIED:20231124T213311Z
UID:10010383-1777042800-1777048200@dirtforce.de
SUMMARY:KidsTraining Junior Gruppe I (4-7J.)
DESCRIPTION:
URL:https://dirtforce.de/event/kidstraining-junior-gruppe-i-4-7j/
LOCATION:Dirt Force Bikepark\, Mühlendamm 1\, Neubrandenburg\, Mecklenburg-Vorpommern\, 17033\, Deutschland
CATEGORIES:Tickets,Training
ATTACH;FMTTYPE=image/png:https://dirtforce.de/wp-content/uploads/2023/11/KidsTraining_JR_GR1-e1700860986819.png
GEO:53.5359552;13.2979632
X-APPLE-STRUCTURED-LOCATION;VALUE=URI;X-ADDRESS=Dirt Force Bikepark Mühlendamm 1 Neubrandenburg Mecklenburg-Vorpommern 17033 Deutschland;X-APPLE-RADIUS=500;X-TITLE=Mühlendamm 1:geo:13.2979632,53.5359552
END:VEVENT
BEGIN:VEVENT
DTSTART;TZID=Europe/Berlin:20260424T163000
DTEND;TZID=Europe/Berlin:20260424T180000
DTSTAMP:20260425T220915
CREATED:20231122T221159Z
LAST-MODIFIED:20231124T212011Z
UID:10000728-1777048200-1777053600@dirtforce.de
SUMMARY:KidsTraining Junior Gruppe II (7-10J.)
DESCRIPTION:
URL:https://dirtforce.de/event/kidstraining-junior-gruppe-ii/2026-04-24/
LOCATION:Dirt Force Bikepark\, Mühlendamm 1\, Neubrandenburg\, Mecklenburg-Vorpommern\, 17033\, Deutschland
CATEGORIES:Tickets,Training
ATTACH;FMTTYPE=image/png:https://dirtforce.de/wp-content/uploads/2023/11/KIdsTraining_JR_GR2-e1700856091632.png
GEO:53.5359552;13.2979632
X-APPLE-STRUCTURED-LOCATION;VALUE=URI;X-ADDRESS=Dirt Force Bikepark Mühlendamm 1 Neubrandenburg Mecklenburg-Vorpommern 17033 Deutschland;X-APPLE-RADIUS=500;X-TITLE=Mühlendamm 1:geo:13.2979632,53.5359552
END:VEVENT
BEGIN:VEVENT
DTSTART;TZID=Europe/Berlin:20260429T160000
DTEND;TZID=Europe/Berlin:20260429T180000
DTSTAMP:20260425T220915
CREATED:20230704T103507Z
LAST-MODIFIED:20231124T211803Z
UID:10004642-1777478400-1777485600@dirtforce.de
SUMMARY:KidsTraining EXPERT (10 - 15 J.)
DESCRIPTION:
URL:https://dirtforce.de/event/kidstraining-expert-2020-10-21-2/2026-04-29/
LOCATION:Dirt Force Bikepark\, Mühlendamm 1\, Neubrandenburg\, Mecklenburg-Vorpommern\, 17033\, Deutschland
CATEGORIES:Tickets,Training
ATTACH;FMTTYPE=image/png:https://dirtforce.de/wp-content/uploads/2023/11/KidsTraining_XP-e1700856127693.png
GEO:53.5359552;13.2979632
X-APPLE-STRUCTURED-LOCATION;VALUE=URI;X-ADDRESS=Dirt Force Bikepark Mühlendamm 1 Neubrandenburg Mecklenburg-Vorpommern 17033 Deutschland;X-APPLE-RADIUS=500;X-TITLE=Mühlendamm 1:geo:13.2979632,53.5359552
END:VEVENT
BEGIN:VEVENT
DTSTART;TZID=Europe/Berlin:20260501T150000
DTEND;TZID=Europe/Berlin:20260501T163000
DTSTAMP:20260425T220915
CREATED:20231123T223412Z
LAST-MODIFIED:20231124T213311Z
UID:10010384-1777647600-1777653000@dirtforce.de
SUMMARY:KidsTraining Junior Gruppe I (4-7J.)
DESCRIPTION:
URL:https://dirtforce.de/event/kidstraining-junior-gruppe-i-4-7j/
LOCATION:Dirt Force Bikepark\, Mühlendamm 1\, Neubrandenburg\, Mecklenburg-Vorpommern\, 17033\, Deutschland
CATEGORIES:Tickets,Training
ATTACH;FMTTYPE=image/png:https://dirtforce.de/wp-content/uploads/2023/11/KidsTraining_JR_GR1-e1700860986819.png
GEO:53.5359552;13.2979632
X-APPLE-STRUCTURED-LOCATION;VALUE=URI;X-ADDRESS=Dirt Force Bikepark Mühlendamm 1 Neubrandenburg Mecklenburg-Vorpommern 17033 Deutschland;X-APPLE-RADIUS=500;X-TITLE=Mühlendamm 1:geo:13.2979632,53.5359552
END:VEVENT
BEGIN:VEVENT
DTSTART;TZID=Europe/Berlin:20260501T163000
DTEND;TZID=Europe/Berlin:20260501T180000
DTSTAMP:20260425T220915
CREATED:20231122T221159Z
LAST-MODIFIED:20231124T212011Z
UID:10000729-1777653000-1777658400@dirtforce.de
SUMMARY:KidsTraining Junior Gruppe II (7-10J.)
DESCRIPTION:
URL:https://dirtforce.de/event/kidstraining-junior-gruppe-ii/2026-05-01/
LOCATION:Dirt Force Bikepark\, Mühlendamm 1\, Neubrandenburg\, Mecklenburg-Vorpommern\, 17033\, Deutschland
CATEGORIES:Tickets,Training
ATTACH;FMTTYPE=image/png:https://dirtforce.de/wp-content/uploads/2023/11/KIdsTraining_JR_GR2-e1700856091632.png
GEO:53.5359552;13.2979632
X-APPLE-STRUCTURED-LOCATION;VALUE=URI;X-ADDRESS=Dirt Force Bikepark Mühlendamm 1 Neubrandenburg Mecklenburg-Vorpommern 17033 Deutschland;X-APPLE-RADIUS=500;X-TITLE=Mühlendamm 1:geo:13.2979632,53.5359552
END:VEVENT
BEGIN:VEVENT
DTSTART;TZID=Europe/Berlin:20260506T160000
DTEND;TZID=Europe/Berlin:20260506T180000
DTSTAMP:20260425T220915
CREATED:20230704T103507Z
LAST-MODIFIED:20231124T211803Z
UID:10004643-1778083200-1778090400@dirtforce.de
SUMMARY:KidsTraining EXPERT (10 - 15 J.)
DESCRIPTION:
URL:https://dirtforce.de/event/kidstraining-expert-2020-10-21-2/2026-05-06/
LOCATION:Dirt Force Bikepark\, Mühlendamm 1\, Neubrandenburg\, Mecklenburg-Vorpommern\, 17033\, Deutschland
CATEGORIES:Tickets,Training
ATTACH;FMTTYPE=image/png:https://dirtforce.de/wp-content/uploads/2023/11/KidsTraining_XP-e1700856127693.png
GEO:53.5359552;13.2979632
X-APPLE-STRUCTURED-LOCATION;VALUE=URI;X-ADDRESS=Dirt Force Bikepark Mühlendamm 1 Neubrandenburg Mecklenburg-Vorpommern 17033 Deutschland;X-APPLE-RADIUS=500;X-TITLE=Mühlendamm 1:geo:13.2979632,53.5359552
END:VEVENT
BEGIN:VEVENT
DTSTART;TZID=Europe/Berlin:20260508T150000
DTEND;TZID=Europe/Berlin:20260508T163000
DTSTAMP:20260425T220915
CREATED:20231123T223412Z
LAST-MODIFIED:20231124T213311Z
UID:10010385-1778252400-1778257800@dirtforce.de
SUMMARY:KidsTraining Junior Gruppe I (4-7J.)
DESCRIPTION:
URL:https://dirtforce.de/event/kidstraining-junior-gruppe-i-4-7j/
LOCATION:Dirt Force Bikepark\, Mühlendamm 1\, Neubrandenburg\, Mecklenburg-Vorpommern\, 17033\, Deutschland
CATEGORIES:Tickets,Training
ATTACH;FMTTYPE=image/png:https://dirtforce.de/wp-content/uploads/2023/11/KidsTraining_JR_GR1-e1700860986819.png
GEO:53.5359552;13.2979632
X-APPLE-STRUCTURED-LOCATION;VALUE=URI;X-ADDRESS=Dirt Force Bikepark Mühlendamm 1 Neubrandenburg Mecklenburg-Vorpommern 17033 Deutschland;X-APPLE-RADIUS=500;X-TITLE=Mühlendamm 1:geo:13.2979632,53.5359552
END:VEVENT
BEGIN:VEVENT
DTSTART;TZID=Europe/Berlin:20260508T163000
DTEND;TZID=Europe/Berlin:20260508T180000
DTSTAMP:20260425T220915
CREATED:20231122T221159Z
LAST-MODIFIED:20231124T212011Z
UID:10000730-1778257800-1778263200@dirtforce.de
SUMMARY:KidsTraining Junior Gruppe II (7-10J.)
DESCRIPTION:
URL:https://dirtforce.de/event/kidstraining-junior-gruppe-ii/2026-05-08/
LOCATION:Dirt Force Bikepark\, Mühlendamm 1\, Neubrandenburg\, Mecklenburg-Vorpommern\, 17033\, Deutschland
CATEGORIES:Tickets,Training
ATTACH;FMTTYPE=image/png:https://dirtforce.de/wp-content/uploads/2023/11/KIdsTraining_JR_GR2-e1700856091632.png
GEO:53.5359552;13.2979632
X-APPLE-STRUCTURED-LOCATION;VALUE=URI;X-ADDRESS=Dirt Force Bikepark Mühlendamm 1 Neubrandenburg Mecklenburg-Vorpommern 17033 Deutschland;X-APPLE-RADIUS=500;X-TITLE=Mühlendamm 1:geo:13.2979632,53.5359552
END:VEVENT
BEGIN:VEVENT
DTSTART;TZID=Europe/Berlin:20260513T160000
DTEND;TZID=Europe/Berlin:20260513T180000
DTSTAMP:20260425T220915
CREATED:20230704T103507Z
LAST-MODIFIED:20231124T211803Z
UID:10004644-1778688000-1778695200@dirtforce.de
SUMMARY:KidsTraining EXPERT (10 - 15 J.)
DESCRIPTION:
URL:https://dirtforce.de/event/kidstraining-expert-2020-10-21-2/2026-05-13/
LOCATION:Dirt Force Bikepark\, Mühlendamm 1\, Neubrandenburg\, Mecklenburg-Vorpommern\, 17033\, Deutschland
CATEGORIES:Tickets,Training
ATTACH;FMTTYPE=image/png:https://dirtforce.de/wp-content/uploads/2023/11/KidsTraining_XP-e1700856127693.png
GEO:53.5359552;13.2979632
X-APPLE-STRUCTURED-LOCATION;VALUE=URI;X-ADDRESS=Dirt Force Bikepark Mühlendamm 1 Neubrandenburg Mecklenburg-Vorpommern 17033 Deutschland;X-APPLE-RADIUS=500;X-TITLE=Mühlendamm 1:geo:13.2979632,53.5359552
END:VEVENT
BEGIN:VEVENT
DTSTART;TZID=Europe/Berlin:20260515T150000
DTEND;TZID=Europe/Berlin:20260515T163000
DTSTAMP:20260425T220915
CREATED:20231123T223412Z
LAST-MODIFIED:20231124T213311Z
UID:10010386-1778857200-1778862600@dirtforce.de
SUMMARY:KidsTraining Junior Gruppe I (4-7J.)
DESCRIPTION:
URL:https://dirtforce.de/event/kidstraining-junior-gruppe-i-4-7j/
LOCATION:Dirt Force Bikepark\, Mühlendamm 1\, Neubrandenburg\, Mecklenburg-Vorpommern\, 17033\, Deutschland
CATEGORIES:Tickets,Training
ATTACH;FMTTYPE=image/png:https://dirtforce.de/wp-content/uploads/2023/11/KidsTraining_JR_GR1-e1700860986819.png
GEO:53.5359552;13.2979632
X-APPLE-STRUCTURED-LOCATION;VALUE=URI;X-ADDRESS=Dirt Force Bikepark Mühlendamm 1 Neubrandenburg Mecklenburg-Vorpommern 17033 Deutschland;X-APPLE-RADIUS=500;X-TITLE=Mühlendamm 1:geo:13.2979632,53.5359552
END:VEVENT
BEGIN:VEVENT
DTSTART;TZID=Europe/Berlin:20260515T163000
DTEND;TZID=Europe/Berlin:20260515T180000
DTSTAMP:20260425T220915
CREATED:20231122T221159Z
LAST-MODIFIED:20231124T212011Z
UID:10000731-1778862600-1778868000@dirtforce.de
SUMMARY:KidsTraining Junior Gruppe II (7-10J.)
DESCRIPTION:
URL:https://dirtforce.de/event/kidstraining-junior-gruppe-ii/2026-05-15/
LOCATION:Dirt Force Bikepark\, Mühlendamm 1\, Neubrandenburg\, Mecklenburg-Vorpommern\, 17033\, Deutschland
CATEGORIES:Tickets,Training
ATTACH;FMTTYPE=image/png:https://dirtforce.de/wp-content/uploads/2023/11/KIdsTraining_JR_GR2-e1700856091632.png
GEO:53.5359552;13.2979632
X-APPLE-STRUCTURED-LOCATION;VALUE=URI;X-ADDRESS=Dirt Force Bikepark Mühlendamm 1 Neubrandenburg Mecklenburg-Vorpommern 17033 Deutschland;X-APPLE-RADIUS=500;X-TITLE=Mühlendamm 1:geo:13.2979632,53.5359552
END:VEVENT
BEGIN:VEVENT
DTSTART;TZID=Europe/Berlin:20260520T160000
DTEND;TZID=Europe/Berlin:20260520T180000
DTSTAMP:20260425T220915
CREATED:20230704T103507Z
LAST-MODIFIED:20231124T211803Z
UID:10004645-1779292800-1779300000@dirtforce.de
SUMMARY:KidsTraining EXPERT (10 - 15 J.)
DESCRIPTION:
URL:https://dirtforce.de/event/kidstraining-expert-2020-10-21-2/2026-05-20/
LOCATION:Dirt Force Bikepark\, Mühlendamm 1\, Neubrandenburg\, Mecklenburg-Vorpommern\, 17033\, Deutschland
CATEGORIES:Tickets,Training
ATTACH;FMTTYPE=image/png:https://dirtforce.de/wp-content/uploads/2023/11/KidsTraining_XP-e1700856127693.png
GEO:53.5359552;13.2979632
X-APPLE-STRUCTURED-LOCATION;VALUE=URI;X-ADDRESS=Dirt Force Bikepark Mühlendamm 1 Neubrandenburg Mecklenburg-Vorpommern 17033 Deutschland;X-APPLE-RADIUS=500;X-TITLE=Mühlendamm 1:geo:13.2979632,53.5359552
END:VEVENT
BEGIN:VEVENT
DTSTART;TZID=Europe/Berlin:20260522T150000
DTEND;TZID=Europe/Berlin:20260522T163000
DTSTAMP:20260425T220915
CREATED:20231123T223412Z
LAST-MODIFIED:20231124T213311Z
UID:10010387-1779462000-1779467400@dirtforce.de
SUMMARY:KidsTraining Junior Gruppe I (4-7J.)
DESCRIPTION:
URL:https://dirtforce.de/event/kidstraining-junior-gruppe-i-4-7j/
LOCATION:Dirt Force Bikepark\, Mühlendamm 1\, Neubrandenburg\, Mecklenburg-Vorpommern\, 17033\, Deutschland
CATEGORIES:Tickets,Training
ATTACH;FMTTYPE=image/png:https://dirtforce.de/wp-content/uploads/2023/11/KidsTraining_JR_GR1-e1700860986819.png
GEO:53.5359552;13.2979632
X-APPLE-STRUCTURED-LOCATION;VALUE=URI;X-ADDRESS=Dirt Force Bikepark Mühlendamm 1 Neubrandenburg Mecklenburg-Vorpommern 17033 Deutschland;X-APPLE-RADIUS=500;X-TITLE=Mühlendamm 1:geo:13.2979632,53.5359552
END:VEVENT
BEGIN:VEVENT
DTSTART;TZID=Europe/Berlin:20260522T163000
DTEND;TZID=Europe/Berlin:20260522T180000
DTSTAMP:20260425T220915
CREATED:20231122T221159Z
LAST-MODIFIED:20231124T212011Z
UID:10000732-1779467400-1779472800@dirtforce.de
SUMMARY:KidsTraining Junior Gruppe II (7-10J.)
DESCRIPTION:
URL:https://dirtforce.de/event/kidstraining-junior-gruppe-ii/2026-05-22/
LOCATION:Dirt Force Bikepark\, Mühlendamm 1\, Neubrandenburg\, Mecklenburg-Vorpommern\, 17033\, Deutschland
CATEGORIES:Tickets,Training
ATTACH;FMTTYPE=image/png:https://dirtforce.de/wp-content/uploads/2023/11/KIdsTraining_JR_GR2-e1700856091632.png
GEO:53.5359552;13.2979632
X-APPLE-STRUCTURED-LOCATION;VALUE=URI;X-ADDRESS=Dirt Force Bikepark Mühlendamm 1 Neubrandenburg Mecklenburg-Vorpommern 17033 Deutschland;X-APPLE-RADIUS=500;X-TITLE=Mühlendamm 1:geo:13.2979632,53.5359552
END:VEVENT
BEGIN:VEVENT
DTSTART;TZID=Europe/Berlin:20260527T160000
DTEND;TZID=Europe/Berlin:20260527T180000
DTSTAMP:20260425T220915
CREATED:20230704T103507Z
LAST-MODIFIED:20231124T211803Z
UID:10004646-1779897600-1779904800@dirtforce.de
SUMMARY:KidsTraining EXPERT (10 - 15 J.)
DESCRIPTION:
URL:https://dirtforce.de/event/kidstraining-expert-2020-10-21-2/2026-05-27/
LOCATION:Dirt Force Bikepark\, Mühlendamm 1\, Neubrandenburg\, Mecklenburg-Vorpommern\, 17033\, Deutschland
CATEGORIES:Tickets,Training
ATTACH;FMTTYPE=image/png:https://dirtforce.de/wp-content/uploads/2023/11/KidsTraining_XP-e1700856127693.png
GEO:53.5359552;13.2979632
X-APPLE-STRUCTURED-LOCATION;VALUE=URI;X-ADDRESS=Dirt Force Bikepark Mühlendamm 1 Neubrandenburg Mecklenburg-Vorpommern 17033 Deutschland;X-APPLE-RADIUS=500;X-TITLE=Mühlendamm 1:geo:13.2979632,53.5359552
END:VEVENT
BEGIN:VEVENT
DTSTART;TZID=Europe/Berlin:20260529T150000
DTEND;TZID=Europe/Berlin:20260529T163000
DTSTAMP:20260425T220915
CREATED:20231123T223412Z
LAST-MODIFIED:20231124T213311Z
UID:10010388-1780066800-1780072200@dirtforce.de
SUMMARY:KidsTraining Junior Gruppe I (4-7J.)
DESCRIPTION:
URL:https://dirtforce.de/event/kidstraining-junior-gruppe-i-4-7j/
LOCATION:Dirt Force Bikepark\, Mühlendamm 1\, Neubrandenburg\, Mecklenburg-Vorpommern\, 17033\, Deutschland
CATEGORIES:Tickets,Training
ATTACH;FMTTYPE=image/png:https://dirtforce.de/wp-content/uploads/2023/11/KidsTraining_JR_GR1-e1700860986819.png
GEO:53.5359552;13.2979632
X-APPLE-STRUCTURED-LOCATION;VALUE=URI;X-ADDRESS=Dirt Force Bikepark Mühlendamm 1 Neubrandenburg Mecklenburg-Vorpommern 17033 Deutschland;X-APPLE-RADIUS=500;X-TITLE=Mühlendamm 1:geo:13.2979632,53.5359552
END:VEVENT
BEGIN:VEVENT
DTSTART;TZID=Europe/Berlin:20260529T163000
DTEND;TZID=Europe/Berlin:20260529T180000
DTSTAMP:20260425T220915
CREATED:20231122T221159Z
LAST-MODIFIED:20231124T212011Z
UID:10000733-1780072200-1780077600@dirtforce.de
SUMMARY:KidsTraining Junior Gruppe II (7-10J.)
DESCRIPTION:
URL:https://dirtforce.de/event/kidstraining-junior-gruppe-ii/2026-05-29/
LOCATION:Dirt Force Bikepark\, Mühlendamm 1\, Neubrandenburg\, Mecklenburg-Vorpommern\, 17033\, Deutschland
CATEGORIES:Tickets,Training
ATTACH;FMTTYPE=image/png:https://dirtforce.de/wp-content/uploads/2023/11/KIdsTraining_JR_GR2-e1700856091632.png
GEO:53.5359552;13.2979632
X-APPLE-STRUCTURED-LOCATION;VALUE=URI;X-ADDRESS=Dirt Force Bikepark Mühlendamm 1 Neubrandenburg Mecklenburg-Vorpommern 17033 Deutschland;X-APPLE-RADIUS=500;X-TITLE=Mühlendamm 1:geo:13.2979632,53.5359552
END:VEVENT
END:VCALENDAR