BEGIN:VCALENDAR
VERSION:2.0
PRODID:-//Dirt Force Bike Park Neubrandenburg - ECPv6.2.8.1//NONSGML v1.0//EN
CALSCALE:GREGORIAN
METHOD:PUBLISH
X-WR-CALNAME:Dirt Force Bike Park Neubrandenburg
X-ORIGINAL-URL:https://dirtforce.de
X-WR-CALDESC:Veranstaltungen für Dirt Force Bike Park Neubrandenburg
REFRESH-INTERVAL;VALUE=DURATION:PT1H
X-Robots-Tag:noindex
X-PUBLISHED-TTL:PT1H
BEGIN:VTIMEZONE
TZID:Europe/Berlin
BEGIN:DAYLIGHT
TZOFFSETFROM:+0100
TZOFFSETTO:+0200
TZNAME:CEST
DTSTART:20260329T010000
END:DAYLIGHT
BEGIN:STANDARD
TZOFFSETFROM:+0200
TZOFFSETTO:+0100
TZNAME:CET
DTSTART:20261025T010000
END:STANDARD
END:VTIMEZONE
BEGIN:VEVENT
DTSTART;TZID=Europe/Berlin:20260603T160000
DTEND;TZID=Europe/Berlin:20260603T180000
DTSTAMP:20260426T001003
CREATED:20230704T103507Z
LAST-MODIFIED:20231124T211803Z
UID:10004647-1780502400-1780509600@dirtforce.de
SUMMARY:KidsTraining EXPERT (10 - 15 J.)
DESCRIPTION:
URL:https://dirtforce.de/event/kidstraining-expert-2020-10-21-2/2026-06-03/
LOCATION:Dirt Force Bikepark\, Mühlendamm 1\, Neubrandenburg\, Mecklenburg-Vorpommern\, 17033\, Deutschland
CATEGORIES:Tickets,Training
ATTACH;FMTTYPE=image/png:https://dirtforce.de/wp-content/uploads/2023/11/KidsTraining_XP-e1700856127693.png
GEO:53.5359552;13.2979632
X-APPLE-STRUCTURED-LOCATION;VALUE=URI;X-ADDRESS=Dirt Force Bikepark Mühlendamm 1 Neubrandenburg Mecklenburg-Vorpommern 17033 Deutschland;X-APPLE-RADIUS=500;X-TITLE=Mühlendamm 1:geo:13.2979632,53.5359552
END:VEVENT
BEGIN:VEVENT
DTSTART;TZID=Europe/Berlin:20260605T150000
DTEND;TZID=Europe/Berlin:20260605T163000
DTSTAMP:20260426T001004
CREATED:20231123T223412Z
LAST-MODIFIED:20231124T213311Z
UID:10010389-1780671600-1780677000@dirtforce.de
SUMMARY:KidsTraining Junior Gruppe I (4-7J.)
DESCRIPTION:
URL:https://dirtforce.de/event/kidstraining-junior-gruppe-i-4-7j/
LOCATION:Dirt Force Bikepark\, Mühlendamm 1\, Neubrandenburg\, Mecklenburg-Vorpommern\, 17033\, Deutschland
CATEGORIES:Tickets,Training
ATTACH;FMTTYPE=image/png:https://dirtforce.de/wp-content/uploads/2023/11/KidsTraining_JR_GR1-e1700860986819.png
GEO:53.5359552;13.2979632
X-APPLE-STRUCTURED-LOCATION;VALUE=URI;X-ADDRESS=Dirt Force Bikepark Mühlendamm 1 Neubrandenburg Mecklenburg-Vorpommern 17033 Deutschland;X-APPLE-RADIUS=500;X-TITLE=Mühlendamm 1:geo:13.2979632,53.5359552
END:VEVENT
BEGIN:VEVENT
DTSTART;TZID=Europe/Berlin:20260605T163000
DTEND;TZID=Europe/Berlin:20260605T180000
DTSTAMP:20260426T001004
CREATED:20231122T221159Z
LAST-MODIFIED:20231124T212011Z
UID:10000734-1780677000-1780682400@dirtforce.de
SUMMARY:KidsTraining Junior Gruppe II (7-10J.)
DESCRIPTION:
URL:https://dirtforce.de/event/kidstraining-junior-gruppe-ii/2026-06-05/
LOCATION:Dirt Force Bikepark\, Mühlendamm 1\, Neubrandenburg\, Mecklenburg-Vorpommern\, 17033\, Deutschland
CATEGORIES:Tickets,Training
ATTACH;FMTTYPE=image/png:https://dirtforce.de/wp-content/uploads/2023/11/KIdsTraining_JR_GR2-e1700856091632.png
GEO:53.5359552;13.2979632
X-APPLE-STRUCTURED-LOCATION;VALUE=URI;X-ADDRESS=Dirt Force Bikepark Mühlendamm 1 Neubrandenburg Mecklenburg-Vorpommern 17033 Deutschland;X-APPLE-RADIUS=500;X-TITLE=Mühlendamm 1:geo:13.2979632,53.5359552
END:VEVENT
BEGIN:VEVENT
DTSTART;TZID=Europe/Berlin:20260610T160000
DTEND;TZID=Europe/Berlin:20260610T180000
DTSTAMP:20260426T001004
CREATED:20230704T103507Z
LAST-MODIFIED:20231124T211803Z
UID:10004648-1781107200-1781114400@dirtforce.de
SUMMARY:KidsTraining EXPERT (10 - 15 J.)
DESCRIPTION:
URL:https://dirtforce.de/event/kidstraining-expert-2020-10-21-2/2026-06-10/
LOCATION:Dirt Force Bikepark\, Mühlendamm 1\, Neubrandenburg\, Mecklenburg-Vorpommern\, 17033\, Deutschland
CATEGORIES:Tickets,Training
ATTACH;FMTTYPE=image/png:https://dirtforce.de/wp-content/uploads/2023/11/KidsTraining_XP-e1700856127693.png
GEO:53.5359552;13.2979632
X-APPLE-STRUCTURED-LOCATION;VALUE=URI;X-ADDRESS=Dirt Force Bikepark Mühlendamm 1 Neubrandenburg Mecklenburg-Vorpommern 17033 Deutschland;X-APPLE-RADIUS=500;X-TITLE=Mühlendamm 1:geo:13.2979632,53.5359552
END:VEVENT
BEGIN:VEVENT
DTSTART;TZID=Europe/Berlin:20260612T150000
DTEND;TZID=Europe/Berlin:20260612T163000
DTSTAMP:20260426T001004
CREATED:20231123T223412Z
LAST-MODIFIED:20231124T213311Z
UID:10010390-1781276400-1781281800@dirtforce.de
SUMMARY:KidsTraining Junior Gruppe I (4-7J.)
DESCRIPTION:
URL:https://dirtforce.de/event/kidstraining-junior-gruppe-i-4-7j/
LOCATION:Dirt Force Bikepark\, Mühlendamm 1\, Neubrandenburg\, Mecklenburg-Vorpommern\, 17033\, Deutschland
CATEGORIES:Tickets,Training
ATTACH;FMTTYPE=image/png:https://dirtforce.de/wp-content/uploads/2023/11/KidsTraining_JR_GR1-e1700860986819.png
GEO:53.5359552;13.2979632
X-APPLE-STRUCTURED-LOCATION;VALUE=URI;X-ADDRESS=Dirt Force Bikepark Mühlendamm 1 Neubrandenburg Mecklenburg-Vorpommern 17033 Deutschland;X-APPLE-RADIUS=500;X-TITLE=Mühlendamm 1:geo:13.2979632,53.5359552
END:VEVENT
BEGIN:VEVENT
DTSTART;TZID=Europe/Berlin:20260612T163000
DTEND;TZID=Europe/Berlin:20260612T180000
DTSTAMP:20260426T001004
CREATED:20231122T221159Z
LAST-MODIFIED:20231124T212011Z
UID:10000735-1781281800-1781287200@dirtforce.de
SUMMARY:KidsTraining Junior Gruppe II (7-10J.)
DESCRIPTION:
URL:https://dirtforce.de/event/kidstraining-junior-gruppe-ii/2026-06-12/
LOCATION:Dirt Force Bikepark\, Mühlendamm 1\, Neubrandenburg\, Mecklenburg-Vorpommern\, 17033\, Deutschland
CATEGORIES:Tickets,Training
ATTACH;FMTTYPE=image/png:https://dirtforce.de/wp-content/uploads/2023/11/KIdsTraining_JR_GR2-e1700856091632.png
GEO:53.5359552;13.2979632
X-APPLE-STRUCTURED-LOCATION;VALUE=URI;X-ADDRESS=Dirt Force Bikepark Mühlendamm 1 Neubrandenburg Mecklenburg-Vorpommern 17033 Deutschland;X-APPLE-RADIUS=500;X-TITLE=Mühlendamm 1:geo:13.2979632,53.5359552
END:VEVENT
BEGIN:VEVENT
DTSTART;TZID=Europe/Berlin:20260617T160000
DTEND;TZID=Europe/Berlin:20260617T180000
DTSTAMP:20260426T001004
CREATED:20230704T103507Z
LAST-MODIFIED:20231124T211803Z
UID:10004649-1781712000-1781719200@dirtforce.de
SUMMARY:KidsTraining EXPERT (10 - 15 J.)
DESCRIPTION:
URL:https://dirtforce.de/event/kidstraining-expert-2020-10-21-2/2026-06-17/
LOCATION:Dirt Force Bikepark\, Mühlendamm 1\, Neubrandenburg\, Mecklenburg-Vorpommern\, 17033\, Deutschland
CATEGORIES:Tickets,Training
ATTACH;FMTTYPE=image/png:https://dirtforce.de/wp-content/uploads/2023/11/KidsTraining_XP-e1700856127693.png
GEO:53.5359552;13.2979632
X-APPLE-STRUCTURED-LOCATION;VALUE=URI;X-ADDRESS=Dirt Force Bikepark Mühlendamm 1 Neubrandenburg Mecklenburg-Vorpommern 17033 Deutschland;X-APPLE-RADIUS=500;X-TITLE=Mühlendamm 1:geo:13.2979632,53.5359552
END:VEVENT
BEGIN:VEVENT
DTSTART;TZID=Europe/Berlin:20260619T150000
DTEND;TZID=Europe/Berlin:20260619T163000
DTSTAMP:20260426T001004
CREATED:20231123T223412Z
LAST-MODIFIED:20231124T213311Z
UID:10010391-1781881200-1781886600@dirtforce.de
SUMMARY:KidsTraining Junior Gruppe I (4-7J.)
DESCRIPTION:
URL:https://dirtforce.de/event/kidstraining-junior-gruppe-i-4-7j/
LOCATION:Dirt Force Bikepark\, Mühlendamm 1\, Neubrandenburg\, Mecklenburg-Vorpommern\, 17033\, Deutschland
CATEGORIES:Tickets,Training
ATTACH;FMTTYPE=image/png:https://dirtforce.de/wp-content/uploads/2023/11/KidsTraining_JR_GR1-e1700860986819.png
GEO:53.5359552;13.2979632
X-APPLE-STRUCTURED-LOCATION;VALUE=URI;X-ADDRESS=Dirt Force Bikepark Mühlendamm 1 Neubrandenburg Mecklenburg-Vorpommern 17033 Deutschland;X-APPLE-RADIUS=500;X-TITLE=Mühlendamm 1:geo:13.2979632,53.5359552
END:VEVENT
BEGIN:VEVENT
DTSTART;TZID=Europe/Berlin:20260619T163000
DTEND;TZID=Europe/Berlin:20260619T180000
DTSTAMP:20260426T001004
CREATED:20231122T221159Z
LAST-MODIFIED:20231124T212011Z
UID:10000736-1781886600-1781892000@dirtforce.de
SUMMARY:KidsTraining Junior Gruppe II (7-10J.)
DESCRIPTION:
URL:https://dirtforce.de/event/kidstraining-junior-gruppe-ii/2026-06-19/
LOCATION:Dirt Force Bikepark\, Mühlendamm 1\, Neubrandenburg\, Mecklenburg-Vorpommern\, 17033\, Deutschland
CATEGORIES:Tickets,Training
ATTACH;FMTTYPE=image/png:https://dirtforce.de/wp-content/uploads/2023/11/KIdsTraining_JR_GR2-e1700856091632.png
GEO:53.5359552;13.2979632
X-APPLE-STRUCTURED-LOCATION;VALUE=URI;X-ADDRESS=Dirt Force Bikepark Mühlendamm 1 Neubrandenburg Mecklenburg-Vorpommern 17033 Deutschland;X-APPLE-RADIUS=500;X-TITLE=Mühlendamm 1:geo:13.2979632,53.5359552
END:VEVENT
BEGIN:VEVENT
DTSTART;TZID=Europe/Berlin:20260624T160000
DTEND;TZID=Europe/Berlin:20260624T180000
DTSTAMP:20260426T001004
CREATED:20230704T103507Z
LAST-MODIFIED:20231124T211803Z
UID:10004650-1782316800-1782324000@dirtforce.de
SUMMARY:KidsTraining EXPERT (10 - 15 J.)
DESCRIPTION:
URL:https://dirtforce.de/event/kidstraining-expert-2020-10-21-2/2026-06-24/
LOCATION:Dirt Force Bikepark\, Mühlendamm 1\, Neubrandenburg\, Mecklenburg-Vorpommern\, 17033\, Deutschland
CATEGORIES:Tickets,Training
ATTACH;FMTTYPE=image/png:https://dirtforce.de/wp-content/uploads/2023/11/KidsTraining_XP-e1700856127693.png
GEO:53.5359552;13.2979632
X-APPLE-STRUCTURED-LOCATION;VALUE=URI;X-ADDRESS=Dirt Force Bikepark Mühlendamm 1 Neubrandenburg Mecklenburg-Vorpommern 17033 Deutschland;X-APPLE-RADIUS=500;X-TITLE=Mühlendamm 1:geo:13.2979632,53.5359552
END:VEVENT
BEGIN:VEVENT
DTSTART;TZID=Europe/Berlin:20260626T150000
DTEND;TZID=Europe/Berlin:20260626T163000
DTSTAMP:20260426T001004
CREATED:20231123T223412Z
LAST-MODIFIED:20231124T213311Z
UID:10010392-1782486000-1782491400@dirtforce.de
SUMMARY:KidsTraining Junior Gruppe I (4-7J.)
DESCRIPTION:
URL:https://dirtforce.de/event/kidstraining-junior-gruppe-i-4-7j/
LOCATION:Dirt Force Bikepark\, Mühlendamm 1\, Neubrandenburg\, Mecklenburg-Vorpommern\, 17033\, Deutschland
CATEGORIES:Tickets,Training
ATTACH;FMTTYPE=image/png:https://dirtforce.de/wp-content/uploads/2023/11/KidsTraining_JR_GR1-e1700860986819.png
GEO:53.5359552;13.2979632
X-APPLE-STRUCTURED-LOCATION;VALUE=URI;X-ADDRESS=Dirt Force Bikepark Mühlendamm 1 Neubrandenburg Mecklenburg-Vorpommern 17033 Deutschland;X-APPLE-RADIUS=500;X-TITLE=Mühlendamm 1:geo:13.2979632,53.5359552
END:VEVENT
BEGIN:VEVENT
DTSTART;TZID=Europe/Berlin:20260626T163000
DTEND;TZID=Europe/Berlin:20260626T180000
DTSTAMP:20260426T001004
CREATED:20231122T221159Z
LAST-MODIFIED:20231124T212011Z
UID:10000737-1782491400-1782496800@dirtforce.de
SUMMARY:KidsTraining Junior Gruppe II (7-10J.)
DESCRIPTION:
URL:https://dirtforce.de/event/kidstraining-junior-gruppe-ii/2026-06-26/
LOCATION:Dirt Force Bikepark\, Mühlendamm 1\, Neubrandenburg\, Mecklenburg-Vorpommern\, 17033\, Deutschland
CATEGORIES:Tickets,Training
ATTACH;FMTTYPE=image/png:https://dirtforce.de/wp-content/uploads/2023/11/KIdsTraining_JR_GR2-e1700856091632.png
GEO:53.5359552;13.2979632
X-APPLE-STRUCTURED-LOCATION;VALUE=URI;X-ADDRESS=Dirt Force Bikepark Mühlendamm 1 Neubrandenburg Mecklenburg-Vorpommern 17033 Deutschland;X-APPLE-RADIUS=500;X-TITLE=Mühlendamm 1:geo:13.2979632,53.5359552
END:VEVENT
BEGIN:VEVENT
DTSTART;TZID=Europe/Berlin:20260701T160000
DTEND;TZID=Europe/Berlin:20260701T180000
DTSTAMP:20260426T001004
CREATED:20230704T103507Z
LAST-MODIFIED:20231124T211803Z
UID:10004651-1782921600-1782928800@dirtforce.de
SUMMARY:KidsTraining EXPERT (10 - 15 J.)
DESCRIPTION:
URL:https://dirtforce.de/event/kidstraining-expert-2020-10-21-2/2026-07-01/
LOCATION:Dirt Force Bikepark\, Mühlendamm 1\, Neubrandenburg\, Mecklenburg-Vorpommern\, 17033\, Deutschland
CATEGORIES:Tickets,Training
ATTACH;FMTTYPE=image/png:https://dirtforce.de/wp-content/uploads/2023/11/KidsTraining_XP-e1700856127693.png
GEO:53.5359552;13.2979632
X-APPLE-STRUCTURED-LOCATION;VALUE=URI;X-ADDRESS=Dirt Force Bikepark Mühlendamm 1 Neubrandenburg Mecklenburg-Vorpommern 17033 Deutschland;X-APPLE-RADIUS=500;X-TITLE=Mühlendamm 1:geo:13.2979632,53.5359552
END:VEVENT
BEGIN:VEVENT
DTSTART;TZID=Europe/Berlin:20260703T150000
DTEND;TZID=Europe/Berlin:20260703T163000
DTSTAMP:20260426T001004
CREATED:20231123T223412Z
LAST-MODIFIED:20231124T213311Z
UID:10010393-1783090800-1783096200@dirtforce.de
SUMMARY:KidsTraining Junior Gruppe I (4-7J.)
DESCRIPTION:
URL:https://dirtforce.de/event/kidstraining-junior-gruppe-i-4-7j/
LOCATION:Dirt Force Bikepark\, Mühlendamm 1\, Neubrandenburg\, Mecklenburg-Vorpommern\, 17033\, Deutschland
CATEGORIES:Tickets,Training
ATTACH;FMTTYPE=image/png:https://dirtforce.de/wp-content/uploads/2023/11/KidsTraining_JR_GR1-e1700860986819.png
GEO:53.5359552;13.2979632
X-APPLE-STRUCTURED-LOCATION;VALUE=URI;X-ADDRESS=Dirt Force Bikepark Mühlendamm 1 Neubrandenburg Mecklenburg-Vorpommern 17033 Deutschland;X-APPLE-RADIUS=500;X-TITLE=Mühlendamm 1:geo:13.2979632,53.5359552
END:VEVENT
BEGIN:VEVENT
DTSTART;TZID=Europe/Berlin:20260703T163000
DTEND;TZID=Europe/Berlin:20260703T180000
DTSTAMP:20260426T001004
CREATED:20231122T221159Z
LAST-MODIFIED:20231124T212011Z
UID:10000738-1783096200-1783101600@dirtforce.de
SUMMARY:KidsTraining Junior Gruppe II (7-10J.)
DESCRIPTION:
URL:https://dirtforce.de/event/kidstraining-junior-gruppe-ii/2026-07-03/
LOCATION:Dirt Force Bikepark\, Mühlendamm 1\, Neubrandenburg\, Mecklenburg-Vorpommern\, 17033\, Deutschland
CATEGORIES:Tickets,Training
ATTACH;FMTTYPE=image/png:https://dirtforce.de/wp-content/uploads/2023/11/KIdsTraining_JR_GR2-e1700856091632.png
GEO:53.5359552;13.2979632
X-APPLE-STRUCTURED-LOCATION;VALUE=URI;X-ADDRESS=Dirt Force Bikepark Mühlendamm 1 Neubrandenburg Mecklenburg-Vorpommern 17033 Deutschland;X-APPLE-RADIUS=500;X-TITLE=Mühlendamm 1:geo:13.2979632,53.5359552
END:VEVENT
BEGIN:VEVENT
DTSTART;TZID=Europe/Berlin:20260708T160000
DTEND;TZID=Europe/Berlin:20260708T180000
DTSTAMP:20260426T001004
CREATED:20230704T103507Z
LAST-MODIFIED:20231124T211803Z
UID:10004652-1783526400-1783533600@dirtforce.de
SUMMARY:KidsTraining EXPERT (10 - 15 J.)
DESCRIPTION:
URL:https://dirtforce.de/event/kidstraining-expert-2020-10-21-2/2026-07-08/
LOCATION:Dirt Force Bikepark\, Mühlendamm 1\, Neubrandenburg\, Mecklenburg-Vorpommern\, 17033\, Deutschland
CATEGORIES:Tickets,Training
ATTACH;FMTTYPE=image/png:https://dirtforce.de/wp-content/uploads/2023/11/KidsTraining_XP-e1700856127693.png
GEO:53.5359552;13.2979632
X-APPLE-STRUCTURED-LOCATION;VALUE=URI;X-ADDRESS=Dirt Force Bikepark Mühlendamm 1 Neubrandenburg Mecklenburg-Vorpommern 17033 Deutschland;X-APPLE-RADIUS=500;X-TITLE=Mühlendamm 1:geo:13.2979632,53.5359552
END:VEVENT
BEGIN:VEVENT
DTSTART;TZID=Europe/Berlin:20260710T150000
DTEND;TZID=Europe/Berlin:20260710T163000
DTSTAMP:20260426T001004
CREATED:20231123T223412Z
LAST-MODIFIED:20231124T213311Z
UID:10010394-1783695600-1783701000@dirtforce.de
SUMMARY:KidsTraining Junior Gruppe I (4-7J.)
DESCRIPTION:
URL:https://dirtforce.de/event/kidstraining-junior-gruppe-i-4-7j/
LOCATION:Dirt Force Bikepark\, Mühlendamm 1\, Neubrandenburg\, Mecklenburg-Vorpommern\, 17033\, Deutschland
CATEGORIES:Tickets,Training
ATTACH;FMTTYPE=image/png:https://dirtforce.de/wp-content/uploads/2023/11/KidsTraining_JR_GR1-e1700860986819.png
GEO:53.5359552;13.2979632
X-APPLE-STRUCTURED-LOCATION;VALUE=URI;X-ADDRESS=Dirt Force Bikepark Mühlendamm 1 Neubrandenburg Mecklenburg-Vorpommern 17033 Deutschland;X-APPLE-RADIUS=500;X-TITLE=Mühlendamm 1:geo:13.2979632,53.5359552
END:VEVENT
BEGIN:VEVENT
DTSTART;TZID=Europe/Berlin:20260710T163000
DTEND;TZID=Europe/Berlin:20260710T180000
DTSTAMP:20260426T001004
CREATED:20231122T221159Z
LAST-MODIFIED:20231124T212011Z
UID:10000739-1783701000-1783706400@dirtforce.de
SUMMARY:KidsTraining Junior Gruppe II (7-10J.)
DESCRIPTION:
URL:https://dirtforce.de/event/kidstraining-junior-gruppe-ii/2026-07-10/
LOCATION:Dirt Force Bikepark\, Mühlendamm 1\, Neubrandenburg\, Mecklenburg-Vorpommern\, 17033\, Deutschland
CATEGORIES:Tickets,Training
ATTACH;FMTTYPE=image/png:https://dirtforce.de/wp-content/uploads/2023/11/KIdsTraining_JR_GR2-e1700856091632.png
GEO:53.5359552;13.2979632
X-APPLE-STRUCTURED-LOCATION;VALUE=URI;X-ADDRESS=Dirt Force Bikepark Mühlendamm 1 Neubrandenburg Mecklenburg-Vorpommern 17033 Deutschland;X-APPLE-RADIUS=500;X-TITLE=Mühlendamm 1:geo:13.2979632,53.5359552
END:VEVENT
BEGIN:VEVENT
DTSTART;TZID=Europe/Berlin:20260715T160000
DTEND;TZID=Europe/Berlin:20260715T180000
DTSTAMP:20260426T001004
CREATED:20230704T103507Z
LAST-MODIFIED:20231124T211803Z
UID:10004653-1784131200-1784138400@dirtforce.de
SUMMARY:KidsTraining EXPERT (10 - 15 J.)
DESCRIPTION:
URL:https://dirtforce.de/event/kidstraining-expert-2020-10-21-2/2026-07-15/
LOCATION:Dirt Force Bikepark\, Mühlendamm 1\, Neubrandenburg\, Mecklenburg-Vorpommern\, 17033\, Deutschland
CATEGORIES:Tickets,Training
ATTACH;FMTTYPE=image/png:https://dirtforce.de/wp-content/uploads/2023/11/KidsTraining_XP-e1700856127693.png
GEO:53.5359552;13.2979632
X-APPLE-STRUCTURED-LOCATION;VALUE=URI;X-ADDRESS=Dirt Force Bikepark Mühlendamm 1 Neubrandenburg Mecklenburg-Vorpommern 17033 Deutschland;X-APPLE-RADIUS=500;X-TITLE=Mühlendamm 1:geo:13.2979632,53.5359552
END:VEVENT
BEGIN:VEVENT
DTSTART;TZID=Europe/Berlin:20260717T150000
DTEND;TZID=Europe/Berlin:20260717T163000
DTSTAMP:20260426T001004
CREATED:20231123T223412Z
LAST-MODIFIED:20231124T213311Z
UID:10010395-1784300400-1784305800@dirtforce.de
SUMMARY:KidsTraining Junior Gruppe I (4-7J.)
DESCRIPTION:
URL:https://dirtforce.de/event/kidstraining-junior-gruppe-i-4-7j/
LOCATION:Dirt Force Bikepark\, Mühlendamm 1\, Neubrandenburg\, Mecklenburg-Vorpommern\, 17033\, Deutschland
CATEGORIES:Tickets,Training
ATTACH;FMTTYPE=image/png:https://dirtforce.de/wp-content/uploads/2023/11/KidsTraining_JR_GR1-e1700860986819.png
GEO:53.5359552;13.2979632
X-APPLE-STRUCTURED-LOCATION;VALUE=URI;X-ADDRESS=Dirt Force Bikepark Mühlendamm 1 Neubrandenburg Mecklenburg-Vorpommern 17033 Deutschland;X-APPLE-RADIUS=500;X-TITLE=Mühlendamm 1:geo:13.2979632,53.5359552
END:VEVENT
BEGIN:VEVENT
DTSTART;TZID=Europe/Berlin:20260717T163000
DTEND;TZID=Europe/Berlin:20260717T180000
DTSTAMP:20260426T001004
CREATED:20231122T221159Z
LAST-MODIFIED:20231124T212011Z
UID:10000740-1784305800-1784311200@dirtforce.de
SUMMARY:KidsTraining Junior Gruppe II (7-10J.)
DESCRIPTION:
URL:https://dirtforce.de/event/kidstraining-junior-gruppe-ii/2026-07-17/
LOCATION:Dirt Force Bikepark\, Mühlendamm 1\, Neubrandenburg\, Mecklenburg-Vorpommern\, 17033\, Deutschland
CATEGORIES:Tickets,Training
ATTACH;FMTTYPE=image/png:https://dirtforce.de/wp-content/uploads/2023/11/KIdsTraining_JR_GR2-e1700856091632.png
GEO:53.5359552;13.2979632
X-APPLE-STRUCTURED-LOCATION;VALUE=URI;X-ADDRESS=Dirt Force Bikepark Mühlendamm 1 Neubrandenburg Mecklenburg-Vorpommern 17033 Deutschland;X-APPLE-RADIUS=500;X-TITLE=Mühlendamm 1:geo:13.2979632,53.5359552
END:VEVENT
BEGIN:VEVENT
DTSTART;TZID=Europe/Berlin:20260722T160000
DTEND;TZID=Europe/Berlin:20260722T180000
DTSTAMP:20260426T001004
CREATED:20230704T103507Z
LAST-MODIFIED:20231124T211803Z
UID:10004654-1784736000-1784743200@dirtforce.de
SUMMARY:KidsTraining EXPERT (10 - 15 J.)
DESCRIPTION:
URL:https://dirtforce.de/event/kidstraining-expert-2020-10-21-2/2026-07-22/
LOCATION:Dirt Force Bikepark\, Mühlendamm 1\, Neubrandenburg\, Mecklenburg-Vorpommern\, 17033\, Deutschland
CATEGORIES:Tickets,Training
ATTACH;FMTTYPE=image/png:https://dirtforce.de/wp-content/uploads/2023/11/KidsTraining_XP-e1700856127693.png
GEO:53.5359552;13.2979632
X-APPLE-STRUCTURED-LOCATION;VALUE=URI;X-ADDRESS=Dirt Force Bikepark Mühlendamm 1 Neubrandenburg Mecklenburg-Vorpommern 17033 Deutschland;X-APPLE-RADIUS=500;X-TITLE=Mühlendamm 1:geo:13.2979632,53.5359552
END:VEVENT
BEGIN:VEVENT
DTSTART;TZID=Europe/Berlin:20260724T150000
DTEND;TZID=Europe/Berlin:20260724T163000
DTSTAMP:20260426T001004
CREATED:20231123T223412Z
LAST-MODIFIED:20231124T213311Z
UID:10010396-1784905200-1784910600@dirtforce.de
SUMMARY:KidsTraining Junior Gruppe I (4-7J.)
DESCRIPTION:
URL:https://dirtforce.de/event/kidstraining-junior-gruppe-i-4-7j/
LOCATION:Dirt Force Bikepark\, Mühlendamm 1\, Neubrandenburg\, Mecklenburg-Vorpommern\, 17033\, Deutschland
CATEGORIES:Tickets,Training
ATTACH;FMTTYPE=image/png:https://dirtforce.de/wp-content/uploads/2023/11/KidsTraining_JR_GR1-e1700860986819.png
GEO:53.5359552;13.2979632
X-APPLE-STRUCTURED-LOCATION;VALUE=URI;X-ADDRESS=Dirt Force Bikepark Mühlendamm 1 Neubrandenburg Mecklenburg-Vorpommern 17033 Deutschland;X-APPLE-RADIUS=500;X-TITLE=Mühlendamm 1:geo:13.2979632,53.5359552
END:VEVENT
BEGIN:VEVENT
DTSTART;TZID=Europe/Berlin:20260724T163000
DTEND;TZID=Europe/Berlin:20260724T180000
DTSTAMP:20260426T001004
CREATED:20231122T221159Z
LAST-MODIFIED:20231124T212011Z
UID:10000741-1784910600-1784916000@dirtforce.de
SUMMARY:KidsTraining Junior Gruppe II (7-10J.)
DESCRIPTION:
URL:https://dirtforce.de/event/kidstraining-junior-gruppe-ii/2026-07-24/
LOCATION:Dirt Force Bikepark\, Mühlendamm 1\, Neubrandenburg\, Mecklenburg-Vorpommern\, 17033\, Deutschland
CATEGORIES:Tickets,Training
ATTACH;FMTTYPE=image/png:https://dirtforce.de/wp-content/uploads/2023/11/KIdsTraining_JR_GR2-e1700856091632.png
GEO:53.5359552;13.2979632
X-APPLE-STRUCTURED-LOCATION;VALUE=URI;X-ADDRESS=Dirt Force Bikepark Mühlendamm 1 Neubrandenburg Mecklenburg-Vorpommern 17033 Deutschland;X-APPLE-RADIUS=500;X-TITLE=Mühlendamm 1:geo:13.2979632,53.5359552
END:VEVENT
BEGIN:VEVENT
DTSTART;TZID=Europe/Berlin:20260729T160000
DTEND;TZID=Europe/Berlin:20260729T180000
DTSTAMP:20260426T001004
CREATED:20230704T103507Z
LAST-MODIFIED:20231124T211803Z
UID:10004655-1785340800-1785348000@dirtforce.de
SUMMARY:KidsTraining EXPERT (10 - 15 J.)
DESCRIPTION:
URL:https://dirtforce.de/event/kidstraining-expert-2020-10-21-2/2026-07-29/
LOCATION:Dirt Force Bikepark\, Mühlendamm 1\, Neubrandenburg\, Mecklenburg-Vorpommern\, 17033\, Deutschland
CATEGORIES:Tickets,Training
ATTACH;FMTTYPE=image/png:https://dirtforce.de/wp-content/uploads/2023/11/KidsTraining_XP-e1700856127693.png
GEO:53.5359552;13.2979632
X-APPLE-STRUCTURED-LOCATION;VALUE=URI;X-ADDRESS=Dirt Force Bikepark Mühlendamm 1 Neubrandenburg Mecklenburg-Vorpommern 17033 Deutschland;X-APPLE-RADIUS=500;X-TITLE=Mühlendamm 1:geo:13.2979632,53.5359552
END:VEVENT
BEGIN:VEVENT
DTSTART;TZID=Europe/Berlin:20260731T150000
DTEND;TZID=Europe/Berlin:20260731T163000
DTSTAMP:20260426T001004
CREATED:20231123T223412Z
LAST-MODIFIED:20231124T213311Z
UID:10010397-1785510000-1785515400@dirtforce.de
SUMMARY:KidsTraining Junior Gruppe I (4-7J.)
DESCRIPTION:
URL:https://dirtforce.de/event/kidstraining-junior-gruppe-i-4-7j/
LOCATION:Dirt Force Bikepark\, Mühlendamm 1\, Neubrandenburg\, Mecklenburg-Vorpommern\, 17033\, Deutschland
CATEGORIES:Tickets,Training
ATTACH;FMTTYPE=image/png:https://dirtforce.de/wp-content/uploads/2023/11/KidsTraining_JR_GR1-e1700860986819.png
GEO:53.5359552;13.2979632
X-APPLE-STRUCTURED-LOCATION;VALUE=URI;X-ADDRESS=Dirt Force Bikepark Mühlendamm 1 Neubrandenburg Mecklenburg-Vorpommern 17033 Deutschland;X-APPLE-RADIUS=500;X-TITLE=Mühlendamm 1:geo:13.2979632,53.5359552
END:VEVENT
BEGIN:VEVENT
DTSTART;TZID=Europe/Berlin:20260731T163000
DTEND;TZID=Europe/Berlin:20260731T180000
DTSTAMP:20260426T001004
CREATED:20231122T221159Z
LAST-MODIFIED:20231124T212011Z
UID:10000742-1785515400-1785520800@dirtforce.de
SUMMARY:KidsTraining Junior Gruppe II (7-10J.)
DESCRIPTION:
URL:https://dirtforce.de/event/kidstraining-junior-gruppe-ii/2026-07-31/
LOCATION:Dirt Force Bikepark\, Mühlendamm 1\, Neubrandenburg\, Mecklenburg-Vorpommern\, 17033\, Deutschland
CATEGORIES:Tickets,Training
ATTACH;FMTTYPE=image/png:https://dirtforce.de/wp-content/uploads/2023/11/KIdsTraining_JR_GR2-e1700856091632.png
GEO:53.5359552;13.2979632
X-APPLE-STRUCTURED-LOCATION;VALUE=URI;X-ADDRESS=Dirt Force Bikepark Mühlendamm 1 Neubrandenburg Mecklenburg-Vorpommern 17033 Deutschland;X-APPLE-RADIUS=500;X-TITLE=Mühlendamm 1:geo:13.2979632,53.5359552
END:VEVENT
BEGIN:VEVENT
DTSTART;TZID=Europe/Berlin:20260805T160000
DTEND;TZID=Europe/Berlin:20260805T180000
DTSTAMP:20260426T001004
CREATED:20230704T103507Z
LAST-MODIFIED:20231124T211803Z
UID:10004656-1785945600-1785952800@dirtforce.de
SUMMARY:KidsTraining EXPERT (10 - 15 J.)
DESCRIPTION:
URL:https://dirtforce.de/event/kidstraining-expert-2020-10-21-2/2026-08-05/
LOCATION:Dirt Force Bikepark\, Mühlendamm 1\, Neubrandenburg\, Mecklenburg-Vorpommern\, 17033\, Deutschland
CATEGORIES:Tickets,Training
ATTACH;FMTTYPE=image/png:https://dirtforce.de/wp-content/uploads/2023/11/KidsTraining_XP-e1700856127693.png
GEO:53.5359552;13.2979632
X-APPLE-STRUCTURED-LOCATION;VALUE=URI;X-ADDRESS=Dirt Force Bikepark Mühlendamm 1 Neubrandenburg Mecklenburg-Vorpommern 17033 Deutschland;X-APPLE-RADIUS=500;X-TITLE=Mühlendamm 1:geo:13.2979632,53.5359552
END:VEVENT
BEGIN:VEVENT
DTSTART;TZID=Europe/Berlin:20260807T150000
DTEND;TZID=Europe/Berlin:20260807T163000
DTSTAMP:20260426T001004
CREATED:20231123T223412Z
LAST-MODIFIED:20231124T213311Z
UID:10010398-1786114800-1786120200@dirtforce.de
SUMMARY:KidsTraining Junior Gruppe I (4-7J.)
DESCRIPTION:
URL:https://dirtforce.de/event/kidstraining-junior-gruppe-i-4-7j/
LOCATION:Dirt Force Bikepark\, Mühlendamm 1\, Neubrandenburg\, Mecklenburg-Vorpommern\, 17033\, Deutschland
CATEGORIES:Tickets,Training
ATTACH;FMTTYPE=image/png:https://dirtforce.de/wp-content/uploads/2023/11/KidsTraining_JR_GR1-e1700860986819.png
GEO:53.5359552;13.2979632
X-APPLE-STRUCTURED-LOCATION;VALUE=URI;X-ADDRESS=Dirt Force Bikepark Mühlendamm 1 Neubrandenburg Mecklenburg-Vorpommern 17033 Deutschland;X-APPLE-RADIUS=500;X-TITLE=Mühlendamm 1:geo:13.2979632,53.5359552
END:VEVENT
BEGIN:VEVENT
DTSTART;TZID=Europe/Berlin:20260807T163000
DTEND;TZID=Europe/Berlin:20260807T180000
DTSTAMP:20260426T001004
CREATED:20231122T221159Z
LAST-MODIFIED:20231124T212011Z
UID:10000743-1786120200-1786125600@dirtforce.de
SUMMARY:KidsTraining Junior Gruppe II (7-10J.)
DESCRIPTION:
URL:https://dirtforce.de/event/kidstraining-junior-gruppe-ii/2026-08-07/
LOCATION:Dirt Force Bikepark\, Mühlendamm 1\, Neubrandenburg\, Mecklenburg-Vorpommern\, 17033\, Deutschland
CATEGORIES:Tickets,Training
ATTACH;FMTTYPE=image/png:https://dirtforce.de/wp-content/uploads/2023/11/KIdsTraining_JR_GR2-e1700856091632.png
GEO:53.5359552;13.2979632
X-APPLE-STRUCTURED-LOCATION;VALUE=URI;X-ADDRESS=Dirt Force Bikepark Mühlendamm 1 Neubrandenburg Mecklenburg-Vorpommern 17033 Deutschland;X-APPLE-RADIUS=500;X-TITLE=Mühlendamm 1:geo:13.2979632,53.5359552
END:VEVENT
END:VCALENDAR